{"text_format":"1","workbook":"xlsx","n_sheets":5,"sheets":["メインメニュー","1事務受託様式５号","2事務受託様式４号","3共済契約者別一覧","4事務受託様式２号"],"not_rendered":{"charts":0,"images":0,"macros":1,"external_links":0,"defined_names":4,"comments":3,"pivot_tables":0},"unopened":[],"bounds":{"document_bytes":16777216,"sheet_cells":100000,"rows_first":2000,"rows_last":500,"rows_between":2000,"halvings":0,"cell_chars":16384,"cell_head_chars":4096},"cells_cut":0,"cells_raw":0,"read":"whole","date_system":"1900"}

{"sheet":"メインメニュー","index":0,"n_rows":31,"n_cols":11,"rows_kept":31,"cut":false,"hidden":false,"merged":[[30,5,31,6],[25,1,26,2],[1,1,3,11],[7,1,8,2],[13,1,14,2],[19,1,20,2]]}
[]
[null,"元請・下請間における就労実績報告（日別報告版）"]
[]
[]
[null,null,null,null,null,null,null,null,"各様式",null,"入力項目"]
[]
[]
[null,"STEP 1"]
[]
[]
[]
[]
[]
[null,"STEP 2"]
[]
[]
[]
[]
[]
[null,"STEP 3"]
[]
[]
[]
[]
[]
[null,"STEP 4"]
[]
[]
[]
[]
[null,null,null,null,null,"完成"]

{"sheet":"1事務受託様式５号","index":1,"n_rows":35,"n_cols":37,"rows_kept":35,"cut":false,"hidden":false,"merged":[[34,0,34,34],[22,0,23,0],[22,1,23,1],[22,2,23,2],[22,3,23,3],[22,16,22,21],[22,23,22,27],[5,3,5,30],[6,3,6,30],[8,3,8,30],[1,0,1,35],[2,27,2,28],[2,29,2,35],[3,27,3,28],[3,1,3,3],[3,29,3,35],[7,3,7,30],[6,32,7,32],[6,33,7,35],[11,3,12,30],[22,36,23,36],[9,3,10,30],[14,3,15,30],[12,32,12,35],[8,32,10,32],[8,33,10,35],[16,3,16,30],[18,17,18,19],[18,21,18,26],[19,3,19,16],[19,17,19,19],[19,21,19,35],[13,3,13,30],[13,32,13,35]]}
[null,"　　建退共事務受託様式５号"]
["被共済者就労状況報告書（日別報告様式）"]
[null,null,null,null,null,null,null,null,null,null,null,null,null,null,null,null,null,null,null,null,null,null,null,null,null,null,null,"整理番号",null,"111"]
[null,"元請建設株式会社",null,null,"殿",null,null,null,null,null,null,null,null,null,null,null,null,null,null,null,null,null,null,null,null,null,null,"報告日",null,"2020-11-01"]
[]
[null,"報告事業所名",null,"Ａ建設株式会社"]
[null,"住所",null,"〒170-0013　東京都豊島区東池袋７丁目７",null,null,null,null,null,null,null,null,null,null,null,null,null,null,null,null,null,null,null,null,null,null,null,null,null,null,null,null,"○","掛金納付についての\n事務を委託します。"]
[null,"電話番号",null,"03-8901-2345"]
[null,"共済契約者\n番号",null,"63-99999",null,null,null,null,null,null,null,null,null,null,null,null,null,null,null,null,null,null,null,null,null,null,null,null,null,null,null,null,"○","就労実績の集計に建設\nキャリアアップシステムを\n活用しています。"]
[null,"建設キャリアアップシステム",null,"34567890123456"]
[null,"事業者ⅠD"]
[null,"工事番号および",null,"１２-第３４号　　　　　池袋小学校改修工事"]
[null,"工事名"]
[null,"工事コード",null,"99-999-9999号",null,null,null,null,null,null,null,null,null,null,null,null,null,null,null,null,null,null,null,null,null,null,null,null,null,null,null,null,"現場責任者確認"]
[null,"建設キャリアアップシステム",null,"41234567890123"]
[null,"現場ⅠD"]
[null,"備考"]
[]
[null,"（契約者番号）",null,"100-9999",null,null,null,null,null,null,null,null,null,null,null,null,null,"（契約者番号）",null,null,null,"63-00901"]
[null,"元請事業所名",null,"元請建設株式会社",null,null,null,null,null,null,null,null,null,null,null,null,null,"一次事業所名",null,null,null,"Ａ建設株式会社"]
[]
["次の表のとおり、就労実績を報告します。"]
["No.","被共済者番号","項番","氏名",null,null,null,null,null,null,null,null,null,null,"就労状況",null,"2020-10-01",null,null,null,null,null,"～","2020-10-31",null,null,null,null,null,null,null,null,null,null,null,null,"CCUS"]
[null,null,null,null,{"$f":"DAY($Q$23)","v":1},{"$f":"DAY($Q$23+1)","v":2},{"$f":"DAY($Q$23+2)","v":3},{"$f":"DAY($Q$23+3)","v":4},{"$f":"DAY($Q$23+4)","v":5},{"$f":"DAY($Q$23+5)","v":6},{"$f":"DAY($Q$23+6)","v":7},{"$f":"DAY($Q$23+7)","v":8},{"$f":"DAY($Q$23+8)","v":9},{"$f":"DAY($Q$23+9)","v":10},{"$f":"DAY($Q$23+10)","v":11},{"$f":"DAY($Q$23+11)","v":12},{"$f":"DAY($Q$23+12)","v":13},{"$f":"DAY($Q$23+13)","v":14},{"$f":"DAY($Q$23+14)","v":15},{"$f":"DAY($Q$23+15)","v":16},{"$f":"DAY($Q$23+16)","v":17},{"$f":"DAY($Q$23+17)","v":18},{"$f":"DAY($Q$23+18)","v":19},{"$f":"DAY($Q$23+19)","v":20},{"$f":"DAY($Q$23+20)","v":21},{"$f":"DAY($Q$23+21)","v":22},{"$f":"DAY($Q$23+22)","v":23},{"$f":"DAY($Q$23+23)","v":24},{"$f":"DAY($Q$23+24)","v":25},{"$f":"DAY($Q$23+25)","v":26},{"$f":"DAY($Q$23+26)","v":27},{"$f":"DAY($Q$23+27)","v":28},{"$f":"DAY($Q$23+28)","v":29},{"$f":"DAY($Q$23+29)","v":30},31,"合計日数"]
[1,"13-1234567",null,"建設　タロウ",1,1,null,1,null,null,1,1,1,1,null,null,1,1,1,1,1,null,null,1,1,1,1,1,null,null,1,1,1,1,null,{"$f":"SUM(E25:AI25)","v":21},"○"]
[2,"13-1234568",null,"建設　次郎",1,1,null,1,null,null,1,1,1,1,null,null,1,1,1,1,1,null,null,1,1,1,1,1,null,null,1,1,1,1,null,{"$f":"SUM(E26:AI26)","v":21},"○"]
[3,"13-1234569",null,"豊島　元気",1,1,null,1,null,null,1,1,1,1,null,null,1,1,1,1,1,null,null,1,1,1,1,1,null,null,1,1,1,1,null,21,"○"]
[4,"13-1234570",null,"豊島　花子",1,1,null,1,null,null,1,1,1,1,null,null,1,1,1,1,1,null,null,1,1,1,1,1,null,null,1,1,1,1,null,21,"○"]
[5,"13-1234571",null,"建退　一郎",1,1,null,1,null,null,1,1,1,1,null,null,1,1,1,1,1,null,null,1,1,1,1,1,null,null,1,1,1,1,null,21,"○"]
[6]
[7]
[8]
[9]
[10]
["総合計",null,null,null,null,null,null,null,null,null,null,null,null,null,null,null,null,null,null,null,null,null,null,null,null,null,null,null,null,null,null,null,null,null,null,{"$f":"SUM(AJ25:AJ34)","v":105},{"$f":"COUNTA(AK25:AK34)","v":5}]

{"sheet":"2事務受託様式４号","index":2,"n_rows":58,"n_cols":41,"rows_kept":58,"cut":false,"hidden":false,"merged":[[8,30,10,36],[34,0,34,32],[34,33,34,36],[33,1,33,2],[33,4,33,9],[33,10,33,15],[33,16,33,32],[33,33,33,36],[32,1,32,2],[32,4,32,9],[32,10,32,15],[32,16,32,32],[32,33,32,36],[31,1,31,2],[31,4,31,9],[31,10,31,15],[31,16,31,32],[31,33,31,36],[30,1,30,2],[30,4,30,9],[30,10,30,15],[30,16,30,32],[30,33,30,36],[29,1,29,2],[29,4,29,9],[29,10,29,15],[29,16,29,32],[29,33,29,36],[28,1,28,2],[28,4,28,9],[28,10,28,15],[28,16,28,32],[28,33,28,36],[27,1,27,2],[27,4,27,9],[27,10,27,15],[27,16,27,32],[27,33,27,36],[26,1,26,2],[26,4,26,9],[26,10,26,15],[26,16,26,32],[26,33,26,36],[25,1,25,2],[25,4,25,9],[25,10,25,15],[25,16,25,32],[25,33,25,36],[22,0,23,0],[22,1,23,2],[22,3,23,3],[22,4,23,9],[22,10,23,15],[22,33,22,36],[23,33,23,36],[24,1,24,2],[24,4,24,9],[24,10,24,15],[24,16,24,32],[24,33,24,36],[22,16,23,32],[1,0,1,36],[2,23,2,26],[2,27,2,36],[3,23,3,26],[3,27,3,36],[3,7,3,9],[3,1,3,6],[13,1,13,2],[13,4,13,25],[5,1,5,2],[5,4,5,25],[5,28,5,36],[6,1,6,2],[6,4,6,25],[7,1,7,2],[7,4,7,25],[8,1,8,2],[8,4,8,25],[12,1,12,2],[9,1,9,2],[10,1,10,2],[13,28,13,36],[6,28,7,29],[6,30,7,36],[22,37,23,39],[24,37,24,39],[14,1,14,2],[15,1,15,2],[9,4,10,25],[14,4,15,25],[16,1,16,2],[16,4,16,25],[16,35,16,36],[18,1,18,2],[18,4,18,14],[18,15,18,21],[18,23,18,36],[21,15,21,21],[21,23,21,32],[19,1,19,2],[19,4,19,14],[19,15,19,21],[19,23,19,36],[21,8,21,11],[21,12,21,14],[11,4,12,25],[11,1,11,2],[8,28,10,29],[30,37,30,39],[31,37,31,39],[32,37,32,39],[33,37,33,39],[34,37,34,39],[25,37,25,39],[26,37,26,39],[27,37,27,39],[28,37,28,39],[29,37,29,39],[62,37,62,39],[63,37,63,39],[64,37,64,39],[65,37,65,39],[66,37,66,39],[57,37,58,39],[59,37,59,39],[60,37,60,39],[61,37,61,39],[72,37,72,39],[73,37,73,39],[74,37,74,39],[75,37,75,39],[67,37,67,39],[68,37,68,39],[69,37,69,39],[70,37,70,39],[71,37,71,39]]}
["　　　建退共事務受託様式４号"]
["被共済者就労状況報告書（月別報告様式）"]
[null,null,null,null,null,null,null,null,null,null,null,null,null,null,null,null,null,null,null,null,null,null,null,"整理番号",null,null,null,{"$f":"IF('1事務受託様式５号'!AD3=0,\"\",'1事務受託様式５号'!AD3)","v":"111"}]
[null,{"$f":"IF('1事務受託様式５号'!B4=0,\"\",'1事務受託様式５号'!B4)","v":"元請建設株式会社"},null,null,null,null,null,"殿",null,null,null,null,null,null,null,null,null,null,null,null,null,null,null,"報告日",null,null,null,{"$f":"IF('1事務受託様式５号'!AD4=0,\"\",'1事務受託様式５号'!AD4)","v":"2020-11-01"}]
[]
[null,"報告事業所名",null,null,{"$f":"IF('1事務受託様式５号'!D6=0,\"\",'1事務受託様式５号'!D6)","v":"Ａ建設株式会社"}]
[null,"住所",null,null,{"$f":"IF('1事務受託様式５号'!D7=0,\"\",'1事務受託様式５号'!D7)","v":"〒170-0013　東京都豊島区東池袋７丁目７"},null,null,null,null,null,null,null,null,null,null,null,null,null,null,null,null,null,null,null,null,null,null,null,{"$f":"IF('1事務受託様式５号'!AG7=\"○\",'1事務受託様式５号'!AG7,\"\")","v":"○"},null,"掛金納付についての\n事務を委託します。"]
[null,"電話番号",null,null,{"$f":"IF('1事務受託様式５号'!D8=0,\"\",'1事務受託様式５号'!D8)","v":"03-8901-2345"}]
[null,"共済契約者\n番号",null,null,{"$f":"IF('1事務受託様式５号'!D9=0,\"\",'1事務受託様式５号'!D9)","v":"63-99999"},null,null,null,null,null,null,null,null,null,null,null,null,null,null,null,null,null,null,null,null,null,null,null,{"$f":"IF('1事務受託様式５号'!AG9=\"○\",'1事務受託様式５号'!AG9,\"\")","v":"○"},null,"就労実績の集計に建設\nキャリアアップシステムを\n活用しています。"]
[null,"建設キャリアアップシステム",null,null,{"$f":"IF('1事務受託様式５号'!D10=0,\"\",'1事務受託様式５号'!D10)","v":"34567890123456"}]
[null,"事業者ⅠD"]
[null,"工事番号および",null,null,{"$f":"IF('1事務受託様式５号'!D12=0,\"\",'1事務受託様式５号'!D12)","v":"１２-第３４号　　　　　池袋小学校改修工事"}]
[null,"工事名"]
[null,"工事コード",null,null,{"$f":"IF('1事務受託様式５号'!D14=0,\"\",'1事務受託様式５号'!D14)","v":"99-999-9999号"},null,null,null,null,null,null,null,null,null,null,null,null,null,null,null,null,null,null,null,null,null,null,null,"現場責任者確認"]
[null,"建設キャリアアップシステム",null,null,{"$f":"IF('1事務受託様式５号'!D15=0,\"\",'1事務受託様式５号'!D15)","v":"41234567890123"}]
[null,"現場ⅠD"]
[null,"備考",null,null,{"$f":"IF('1事務受託様式５号'!D17=0,\"\",'1事務受託様式５号'!D17)","v":""}]
[]
[null,"(共済契約者番号)",null,null,{"$f":"IF('1事務受託様式５号'!D19=0,\"\",'1事務受託様式５号'!D19)","v":"100-9999"},null,null,null,null,null,null,null,null,null,null,"(共済契約者番号)",null,null,null,null,null,null,null,{"$f":"IF('1事務受託様式５号'!V19=0,\"\",'1事務受託様式５号'!V19)","v":"63-00901"}]
[null,"元請事業所名",null,null,{"$f":"IF('1事務受託様式５号'!D20=0,\"\",'1事務受託様式５号'!D20)","v":"元請建設株式会社"},null,null,null,null,null,null,null,null,null,null,"一次事業所名",null,null,null,null,null,null,null,{"$f":"IF('1事務受託様式５号'!V20=0,\"\",'1事務受託様式５号'!V20)","v":"Ａ建設株式会社"}]
[]
[null,"次の表のとおり、就労実績を報告します。",null,null,null,null,null,null,"報告期間：",null,null,null,null,null,null,{"$f":"IF('1事務受託様式５号'!Q23=0,\"\",'1事務受託様式５号'!Q23)","v":"2020-10-01"},null,null,null,null,null,null,"～",{"$f":"IF('1事務受託様式５号'!X23=0,\"\",'1事務受託様式５号'!X23)","v":"2020-10-31"}]
["No.","共済契約者番号",null,"項番","共済契約者名",null,null,null,null,null,"被共済者番号",null,null,null,null,null,"被共済者名",null,null,null,null,null,null,null,null,null,null,null,null,null,null,null,null,"就労日数",null,null,null,"CCUS"]
[null,null,null,null,null,null,null,null,null,null,null,null,null,null,null,null,null,null,null,null,null,null,null,null,null,null,null,null,null,null,null,null,null,"310円"]
[1,{"$f":"IF(K25=\"\",\"\",$E$9)","v":"63-99999"},null,null,{"$f":"IF(K25=\"\",\"\",$E$6)","v":"Ａ建設株式会社"},null,null,null,null,null,{"$f":"IF('1事務受託様式５号'!B25=0,\"\",'1事務受託様式５号'!B25)","v":"13-1234567"},null,null,null,null,null,{"$f":"IF('1事務受託様式５号'!D25=0,\"\",'1事務受託様式５号'!D25)","v":"建設　タロウ"},null,null,null,null,null,null,null,null,null,null,null,null,null,null,null,null,{"$f":"IF('1事務受託様式５号'!AJ25=0,\"\",'1事務受託様式５号'!AJ25)","v":21},null,null,null,{"$f":"IF('1事務受託様式５号'!AK25=\"○\",'1事務受託様式５号'!AK25,\"\")","v":"○"},null,null,{"$f":"IF(Q25=\"\",0,1)","v":1}]
[2,"63-99999",null,null,"Ａ建設株式会社",null,null,null,null,null,{"$f":"IF('1事務受託様式５号'!B26=0,\"\",'1事務受託様式５号'!B26)","v":"13-1234568"},null,null,null,null,null,{"$f":"IF('1事務受託様式５号'!D26=0,\"\",'1事務受託様式５号'!D26)","v":"建設　次郎"},null,null,null,null,null,null,null,null,null,null,null,null,null,null,null,null,{"$f":"IF('1事務受託様式５号'!AJ26=0,\"\",'1事務受託様式５号'!AJ26)","v":21},null,null,null,{"$f":"IF('1事務受託様式５号'!AK26=\"○\",'1事務受託様式５号'!AK26,\"\")","v":"○"},null,null,{"$f":"IF(Q26=\"\",0,1)","v":1}]
[3,"63-99999",null,null,"Ａ建設株式会社",null,null,null,null,null,{"$f":"IF('1事務受託様式５号'!B27=0,\"\",'1事務受託様式５号'!B27)","v":"13-1234569"},null,null,null,null,null,{"$f":"IF('1事務受託様式５号'!D27=0,\"\",'1事務受託様式５号'!D27)","v":"豊島　元気"},null,null,null,null,null,null,null,null,null,null,null,null,null,null,null,null,{"$f":"IF('1事務受託様式５号'!AJ27=0,\"\",'1事務受託様式５号'!AJ27)","v":21},null,null,null,{"$f":"IF('1事務受託様式５号'!AK27=\"○\",'1事務受託様式５号'!AK27,\"\")","v":"○"},null,null,1]
[4,"63-99999",null,null,"Ａ建設株式会社",null,null,null,null,null,{"$f":"IF('1事務受託様式５号'!B28=0,\"\",'1事務受託様式５号'!B28)","v":"13-1234570"},null,null,null,null,null,{"$f":"IF('1事務受託様式５号'!D28=0,\"\",'1事務受託様式５号'!D28)","v":"豊島　花子"},null,null,null,null,null,null,null,null,null,null,null,null,null,null,null,null,{"$f":"IF('1事務受託様式５号'!AJ28=0,\"\",'1事務受託様式５号'!AJ28)","v":21},null,null,null,{"$f":"IF('1事務受託様式５号'!AK28=\"○\",'1事務受託様式５号'!AK28,\"\")","v":"○"},null,null,1]
[5,"63-99999",null,null,"Ａ建設株式会社",null,null,null,null,null,{"$f":"IF('1事務受託様式５号'!B29=0,\"\",'1事務受託様式５号'!B29)","v":"13-1234571"},null,null,null,null,null,{"$f":"IF('1事務受託様式５号'!D29=0,\"\",'1事務受託様式５号'!D29)","v":"建退　一郎"},null,null,null,null,null,null,null,null,null,null,null,null,null,null,null,null,{"$f":"IF('1事務受託様式５号'!AJ29=0,\"\",'1事務受託様式５号'!AJ29)","v":21},null,null,null,{"$f":"IF('1事務受託様式５号'!AK29=\"○\",'1事務受託様式５号'!AK29,\"\")","v":"○"},null,null,1]
[6,"",null,null,"",null,null,null,null,null,{"$f":"IF('1事務受託様式５号'!B30=0,\"\",'1事務受託様式５号'!B30)","v":""},null,null,null,null,null,{"$f":"IF('1事務受託様式５号'!D30=0,\"\",'1事務受託様式５号'!D30)","v":""},null,null,null,null,null,null,null,null,null,null,null,null,null,null,null,null,{"$f":"IF('1事務受託様式５号'!AJ30=0,\"\",'1事務受託様式５号'!AJ30)","v":""},null,null,null,{"$f":"IF('1事務受託様式５号'!AK30=\"○\",'1事務受託様式５号'!AK30,\"\")","v":""},null,null,0]
[7,"",null,null,"",null,null,null,null,null,{"$f":"IF('1事務受託様式５号'!B31=0,\"\",'1事務受託様式５号'!B31)","v":""},null,null,null,null,null,{"$f":"IF('1事務受託様式５号'!D31=0,\"\",'1事務受託様式５号'!D31)","v":""},null,null,null,null,null,null,null,null,null,null,null,null,null,null,null,null,{"$f":"IF('1事務受託様式５号'!AJ31=0,\"\",'1事務受託様式５号'!AJ31)","v":""},null,null,null,{"$f":"IF('1事務受託様式５号'!AK31=\"○\",'1事務受託様式５号'!AK31,\"\")","v":""},null,null,0]
[8,{"$f":"IF(K32=\"\",\"\",$E$9)","v":""},null,null,"",null,null,null,null,null,{"$f":"IF('1事務受託様式５号'!B32=0,\"\",'1事務受託様式５号'!B32)","v":""},null,null,null,null,null,{"$f":"IF('1事務受託様式５号'!D32=0,\"\",'1事務受託様式５号'!D32)","v":""},null,null,null,null,null,null,null,null,null,null,null,null,null,null,null,null,{"$f":"IF('1事務受託様式５号'!AJ32=0,\"\",'1事務受託様式５号'!AJ32)","v":""},null,null,null,{"$f":"IF('1事務受託様式５号'!AK32=\"○\",'1事務受託様式５号'!AK32,\"\")","v":""},null,null,0]
[9,"",null,null,"",null,null,null,null,null,{"$f":"IF('1事務受託様式５号'!B33=0,\"\",'1事務受託様式５号'!B33)","v":""},null,null,null,null,null,{"$f":"IF('1事務受託様式５号'!D33=0,\"\",'1事務受託様式５号'!D33)","v":""},null,null,null,null,null,null,null,null,null,null,null,null,null,null,null,null,{"$f":"IF('1事務受託様式５号'!AJ33=0,\"\",'1事務受託様式５号'!AJ33)","v":""},null,null,null,{"$f":"IF('1事務受託様式５号'!AK33=\"○\",'1事務受託様式５号'!AK33,\"\")","v":""},null,null,0]
[10,{"$f":"IF(K34=\"\",\"\",$E$9)","v":""},null,null,{"$f":"IF(K34=\"\",\"\",$E$6)","v":""},null,null,null,null,null,{"$f":"IF('1事務受託様式５号'!B34=0,\"\",'1事務受託様式５号'!B34)","v":""},null,null,null,null,null,{"$f":"IF('1事務受託様式５号'!D34=0,\"\",'1事務受託様式５号'!D34)","v":""},null,null,null,null,null,null,null,null,null,null,null,null,null,null,null,null,{"$f":"IF('1事務受託様式５号'!AJ34=0,\"\",'1事務受託様式５号'!AJ34)","v":""},null,null,null,{"$f":"IF('1事務受託様式５号'!AK34=\"○\",'1事務受託様式５号'!AK34,\"\")","v":""},null,null,0]
["総合計",null,null,null,null,null,null,null,null,null,null,null,null,null,null,null,null,null,null,null,null,null,null,null,null,null,null,null,null,null,null,null,null,{"$f":"SUM(AH25:AK34)","v":105},null,null,null,{"$f":"COUNTIF(AL25:AN34,\"○\")","v":5},null,null,{"$f":"SUM(AO25:AO34)","v":5}]
[]
[]
[]
[]
[]
[]
[]
[]
[]
[]
[]
[]
[]
[]
[]
[]
[]
[]
[]
[]
[]
[]
[null,null,null,null,null,null,null,null,null,null,null,null,null,null,null,null,null,null,null,null,null,null,null,null,null,null,null,null,null,null,null,null,null,null,null,null,null,"CCUS"]

{"sheet":"3共済契約者別一覧","index":3,"n_rows":37,"n_cols":32,"rows_kept":37,"cut":false,"hidden":false,"merged":[[32,1,32,2],[32,4,32,24],[32,25,32,30],[32,31,32,36],[33,1,33,2],[33,4,33,24],[33,25,33,30],[33,31,33,36],[30,1,30,2],[30,4,30,24],[30,25,30,30],[30,31,30,36],[31,1,31,2],[31,4,31,24],[31,25,31,30],[31,31,31,36],[36,0,36,24],[36,25,36,30],[36,31,36,36],[34,1,34,2],[34,4,34,24],[34,25,34,30],[34,31,34,36],[35,1,35,2],[35,4,35,24],[35,25,35,30],[35,31,35,36],[28,1,28,2],[28,4,28,24],[28,25,28,30],[28,31,28,36],[29,1,29,2],[29,4,29,24],[29,25,29,30],[29,31,29,36],[26,1,26,2],[26,4,26,24],[26,25,26,30],[26,31,26,36],[27,1,27,2],[27,4,27,24],[27,25,27,30],[27,31,27,36],[24,1,24,2],[24,4,24,24],[24,25,24,30],[24,31,24,36],[25,1,25,2],[25,4,25,24],[25,25,25,30],[25,31,25,36],[22,1,22,2],[22,4,22,24],[22,25,22,30],[22,31,22,36],[23,1,23,2],[23,4,23,24],[23,25,23,30],[23,31,23,36],[20,1,20,2],[20,4,20,24],[20,25,20,30],[20,31,20,36],[21,1,21,2],[21,4,21,24],[21,25,21,30],[21,31,21,36],[17,8,17,11],[17,12,17,21],[17,24,17,33],[18,0,19,0],[18,1,19,2],[18,3,19,3],[18,4,19,24],[18,25,19,30],[18,31,19,36],[14,1,14,2],[14,4,14,14],[14,15,14,21],[14,23,14,36],[15,1,15,2],[15,4,15,14],[15,15,15,21],[15,23,15,36],[11,1,11,2],[12,1,12,2],[10,28,10,36],[12,35,12,36],[5,1,5,2],[6,1,6,2],[7,1,7,2],[8,1,8,2],[17,38,17,40],[12,4,12,25],[11,4,11,25],[8,4,8,25],[7,4,7,25],[6,4,6,25],[5,4,5,25],[9,1,9,2],[9,4,10,25],[1,0,1,36],[2,23,2,26],[2,27,2,36],[3,1,3,20],[3,23,3,26],[3,27,3,36],[5,28,7,29],[5,30,7,35],[10,1,10,2]]}
[]
["建退共制度に係る被共済者就労状況報告書（共済契約者別一覧）"]
[null,null,null,null,null,null,null,null,null,null,null,null,null,null,null,null,null,null,null,null,null,null,null,"整理番号",null,null,null,{"$f":"IF('2事務受託様式４号'!AB3=0,\"\",'2事務受託様式４号'!AB3)","v":"111"}]
[null,"",null,null,null,null,null,null,null,null,null,null,null,null,null,null,null,null,null,null,null,null,null,"報告日",null,null,null,{"$f":"IF('2事務受託様式４号'!AB4=0,\"\",'2事務受託様式４号'!AB4)","v":"2020-11-01"}]
[]
[null,"報告事業所名",null,null,{"$f":"IF('2事務受託様式４号'!E6=0,\"\",'2事務受託様式４号'!E6)","v":"Ａ建設株式会社"},null,null,null,null,null,null,null,null,null,null,null,null,null,null,null,null,null,null,null,null,null,null,null,"○",null,"下表の共済契約者\n（下請負人）から\n掛金納付についての\n事務を受託しました。"]
[null,"住所",null,null,{"$f":"IF('2事務受託様式４号'!E7=0,\"\",'2事務受託様式４号'!E7)","v":"〒170-0013　東京都豊島区東池袋７丁目７"}]
[null,"電話番号",null,null,{"$f":"IF('2事務受託様式４号'!E8=0,\"\",'2事務受託様式４号'!E8)","v":"03-8901-2345"}]
[null,"共済契約者\n番号",null,null,{"$f":"IF('2事務受託様式４号'!E9=0,\"\",'2事務受託様式４号'!E9)","v":"63-99999"}]
[null,"工事番号および",null,null,{"$f":"IF('2事務受託様式４号'!E12=0,\"\",'2事務受託様式４号'!E12)","v":"１２-第３４号　　　　　池袋小学校改修工事"}]
[null,"工事名",null,null,null,null,null,null,null,null,null,null,null,null,null,null,null,null,null,null,null,null,null,null,null,null,null,null,"現場責任者確認"]
[null,"工事コード",null,null,{"$f":"IF('2事務受託様式４号'!E14=0,\"\",'2事務受託様式４号'!E14)","v":"99-999-9999号"}]
[null,"備考",null,null,{"$f":"IF('2事務受託様式４号'!E17=0,\"\",'2事務受託様式４号'!E17)","v":""}]
[]
[null,"(共済契約者番号)",null,null,{"$f":"IF('2事務受託様式４号'!E19=0,\"\",'2事務受託様式４号'!E19)","v":"100-9999"},null,null,null,null,null,null,null,null,null,null,"(共済契約者番号)",null,null,null,null,null,null,null,{"$f":"IF('2事務受託様式４号'!X19=0,\"\",'2事務受託様式４号'!X19)","v":"63-00901"}]
[null,"元請事業所名",null,null,{"$f":"IF('2事務受託様式４号'!E20=0,\"\",'2事務受託様式４号'!E20)","v":"元請建設株式会社"},null,null,null,null,null,null,null,null,null,null,"一次事業所名",null,null,null,null,null,null,null,{"$f":"IF('2事務受託様式４号'!X20=0,\"\",'2事務受託様式４号'!X20)","v":"Ａ建設株式会社"}]
[]
[null,"次の表のとおり、就労実績を報告します。",null,null,null,null,null,null,"報告期間：",null,null,null,{"$f":"IF('2事務受託様式４号'!P22=0,\"\",'2事務受託様式４号'!P22)","v":"2020-10-01"},null,null,null,null,null,null,null,null,null,"～",null,{"$f":"IF('2事務受託様式４号'!X22=0,\"\",'2事務受託様式４号'!X22)","v":"2020-10-31"}]
["No.","共済契約者番号",null,"項番","共済契約者名",null,null,null,null,null,null,null,null,null,null,null,null,null,null,null,null,null,null,null,null,"被共済者数",null,null,null,null,null,"延べ就労日数"]
[]
["1",{"$f":"IF('2事務受託様式４号'!E9=0,\"\",'2事務受託様式４号'!E9)","v":"63-99999"},null,null,{"$f":"IF('2事務受託様式４号'!E6=0,\"\",'2事務受託様式４号'!E6)","v":"Ａ建設株式会社"},null,null,null,null,null,null,null,null,null,null,null,null,null,null,null,null,null,null,null,null,{"$f":"'2事務受託様式４号'!AO35","v":5},null,null,null,null,null,{"$f":"'2事務受託様式４号'!AH35","v":105}]
["2","63-22222",null,null,"B建設株式会社",null,null,null,null,null,null,null,null,null,null,null,null,null,null,null,null,null,null,null,null,5,null,null,null,null,null,105]
["3","63-33333",null,null,"C建設株式会社",null,null,null,null,null,null,null,null,null,null,null,null,null,null,null,null,null,null,null,null,5,null,null,null,null,null,42]
["4"]
["5"]
["6"]
["7"]
["8"]
["9"]
["10"]
["11"]
["12"]
["13"]
["14"]
["15"]
["16"]
["総合計　",null,null,null,null,null,null,null,null,null,null,null,null,null,null,null,null,null,null,null,null,null,null,null,null,{"$f":"SUM(Z21:AE36)","v":15},null,null,null,null,null,{"$f":"SUM(AF21:AK36)","v":252}]

{"sheet":"4事務受託様式２号","index":4,"n_rows":61,"n_cols":26,"rows_kept":61,"cut":false,"hidden":false,"merged":[[31,24,31,29],[19,7,19,10],[19,11,20,29],[20,7,20,10],[24,7,24,10],[24,11,25,29],[25,7,25,10],[23,7,23,10],[22,7,22,10],[23,11,23,29],[21,7,21,10],[21,11,22,29],[31,5,31,11],[31,14,31,20],[16,11,16,29],[4,1,4,29],[5,1,5,29],[7,24,7,29],[11,1,11,2],[15,11,15,29],[8,21,8,29],[12,1,12,5],[12,6,12,20],[16,7,16,10],[15,7,15,10],[17,11,17,29],[18,11,18,29],[18,7,18,10],[17,7,17,10],[59,15,60,24],[57,25,57,29],[58,25,60,29],[33,6,33,8],[33,16,33,18],[41,24,41,29],[39,1,39,29],[55,22,55,28],[44,1,44,5],[44,6,44,20],[46,13,47,17],[49,13,50,17]]}
[null,"建退共事務受託様式２号"]
[]
[]
[]
[null,"建退共制度に係る被共済者就労状況報告書"]
[null,"（兼建設業退職金共済証紙交付依頼書）"]
[]
[null,null,null,null,null,null,null,null,null,null,null,null,null,null,null,null,null,null,null,null,null,"整理番号",null,null,{"$f":"IF('2事務受託様式４号'!AB3=0,\"\",'2事務受託様式４号'!AB3)","v":"111"}]
[null,null,null,null,null,null,null,null,null,null,null,null,null,null,null,null,null,null,null,null,null,{"$f":"IF('2事務受託様式４号'!AB4=0,\"\",'2事務受託様式４号'!AB4)","v":"2020-11-01"}]
[]
[]
[]
[null,"交付元事業所",null,null,null,null,{"$f":"IF('2事務受託様式４号'!B4=0,\"\",'2事務受託様式４号'!B4&\"　　殿\")","v":"元請建設株式会社　　殿"}]
[]
[]
[null,null,null,null,null,null,null,"報告事業所",null,null,null,{"$f":"IF('2事務受託様式４号'!E6=0,\"\",'2事務受託様式４号'!E6)","v":"Ａ建設株式会社"}]
[null,null,null,null,null,null,null,"住         所",null,null,null,{"$f":"IF('2事務受託様式４号'!E7=0,\"\",'2事務受託様式４号'!E7)","v":"〒170-0013　東京都豊島区東池袋７丁目７"}]
[null,null,null,null,null,null,null,"電 話 番 号",null,null,null,{"$f":"IF('2事務受託様式４号'!E8=0,\"\",'2事務受託様式４号'!E8)","v":"03-8901-2345"}]
[null,null,null,null,null,null,null,"共済契約者\n番　　　　号",null,null,null,{"$f":"IF('2事務受託様式４号'!E9=0,\"\",'2事務受託様式４号'!E9)","v":"63-99999"}]
[null,null,null,null,null,null,null,"建設キャリアアップシステム",null,null,null,{"$f":"IF('2事務受託様式４号'!E10=0,\"\",'2事務受託様式４号'!E10)","v":"34567890123456"}]
[null,null,null,null,null,null,null,"事業者ⅠD"]
[null,null,null,null,null,null,null,"工事番号および",null,null,null,{"$f":"IF('2事務受託様式４号'!E12=0,\"\",'2事務受託様式４号'!E12)","v":"１２-第３４号　　　　　池袋小学校改修工事"}]
[null,null,null,null,null,null,null,"工   事   名"]
[null,null,null,null,null,null,null,"工 事 コード",null,null,null,{"$f":"IF('2事務受託様式４号'!E14=0,\"\",'2事務受託様式４号'!E14)","v":"99-999-9999号"}]
[null,null,null,null,null,null,null,"建設キャリアアップシステム",null,null,null,{"$f":"IF('2事務受託様式４号'!E15=0,\"\",'2事務受託様式４号'!E15)","v":"41234567890123"}]
[null,null,null,null,null,null,null,"現 場 Ⅰ D"]
[]
[null,null,"以下のとおり報告します。"]
[]
[null,null,null,null,null,null,null,null,null,null,null,null,"記"]
[]
[null,null,"期　間",null,null,{"$f":"IF('2事務受託様式４号'!P22=0,\"\",'2事務受託様式４号'!P22)","v":"2020-10-01"},null,null,null,null,null,null,"～",null,{"$f":"IF('2事務受託様式４号'!X22=0,\"\",'2事務受託様式４号'!X22)","v":"2020-10-31"},null,null,null,null,null,null,null,null,null,"現場責任者確認"]
[]
[null,null,"被共済者数",null,null,null,{"$f":"'3共済契約者別一覧'!Z37","v":15},null,null,"人",null,"延べ就労日数",null,null,null,null,{"$f":"'3共済契約者別一覧'!AF37","v":252},null,null,"日"]
[]
[]
[]
[]
[]
[null,"建 設 業 退 職 金 共 済 証 紙 受 領 書"]
[]
[null,null,null,null,null,null,null,null,null,null,null,null,null,null,null,null,null,null,null,null,null,"整理番号",null,null,{"$f":"IF('2事務受託様式４号'!AB3=0,\"\",'2事務受託様式４号'!AB3)","v":"111"}]
[]
[]
[null,"交付元事業所",null,null,null,null,{"$f":"IF('2事務受託様式４号'!B4=0,\"\",'2事務受託様式４号'!B4&\"　　殿\")","v":"元請建設株式会社　　殿"}]
[]
[null,null,null,null,null,null,null,null,null,null,null,null,null,102]
[null,null,null,null,null,null,null,null,null,null,"１日券",null,null,null,null,null,null,null,"枚"]
[]
[null,null,null,null,null,null,null,null,null,null,null,null,null,15]
[null,null,null,null,null,null,null,null,null,null,"１０日券",null,null,null,null,null,null,null,"枚",null,null,null,{"$f":"IF(AND(N47=\"\",N50=\"\"),\"\",IF(Q34=(N47+(N50*10)),\"\",\"請求に対する受領枚数エラー\"))","v":""}]
[]
[]
[null,null,"上記の共済証紙を受領いたしました。"]
[]
[null,null,null,null,null,null,null,null,null,null,null,null,null,null,null,null,null,null,null,null,null,null,"    2020 年  11  月  1  日   "]
[]
[null,null,null,null,null,null,null,null,null,null,null,null,null,null,null,null,null,null,null,null,null,null,null,null,null,"受領者確認"]
[]
[null,null,null,null,null,null,null,null,null,null,null,null,null,null,null,{"$f":"IF('2事務受託様式４号'!E6=0,\"\",'2事務受託様式４号'!E6)","v":"Ａ建設株式会社"}]
[null,null,null,null,null,null,null,null,null,null,null,"報告事業所"]